Workbook
Name Employee_Class_List: 'Named Ranges'!$D$2:$G$11
Name EmployeeClass: 'Named Ranges'!$D$3:$G$11
Name GE_FeesInsTuition: 'R&R Generic Detailed Budget'!$T$5:$AA$13
Name OPE_Rates: 'Eclass OPE Rates'!$A$24:$F$33
Name Personnel_Data: 'Personnel Data'!$A$1:$AR$43
Name SALARIES_WAGES: 'R&R Generic Detailed Budget'!$B$11:$Q$90

Sheet R&R Generic Detailed Budget
A1: 5 | B1: YEAR R&R DETAILED BUDGET (Always change cell A1 to equal the number of project years for this budget)
C3: EPCS# | R3: Template revised
L5: YEAR 1 | M5: YEAR 2 | N5: YEAR 3 | O5: YEAR 4 | P5: YEAR 5 | Q5: TOTAL | R5: 46279 | V5: ="AY "&IF(MONTH(L6)>3, MOD(YEAR(L6),100), MOD(YEAR(L6)-1,100))&"-"&IF(MONTH(L6)>3, MOD(YEAR(L6)+1,100), MOD(YEAR(L6),100)) -> AY 26-27 | W5: ="AY "&IF(MONTH(L6)>3, MOD(YEAR(L6)+1,100), MOD(YEAR(L6),100))&"-"&IF(MONTH(L6)>3, MOD(YEAR(L6)+2,100), MOD(YEAR(L6)+1,100)) -> AY 27-28 | X5: ="AY "&IF(MONTH(L6)>3, MOD(YEAR(L6)+2,100), MOD(YEAR(L6)+1,100))&"-"&IF(MONTH(L6)>3, MOD(YEAR(L6)+3,100), MOD(YEAR(L6)+2,100)) -> AY 28-29 | Y5: ="AY "&IF(MONTH(L6)>3, MOD(YEAR(L6)+3,100), MOD(YEAR(L6)+2,100))&"-"&IF(MONTH(L6)>3, MOD(YEAR(L6)+4,100), MOD(YEAR(L6)+3,100)) -> AY 29-30 | Z5: ="AY "&IF(MONTH(L6)>3, MOD(YEAR(L6)+4,100), MOD(YEAR(L6)+3,100))&"-"&IF(MONTH(L6)>3, MOD(YEAR(L6)+5,100), MOD(YEAR(L6)+4,100)) -> AY 30-31 | AA5: ="AY "&IF(MONTH(M6)>3, MOD(YEAR(M6)+4,100), MOD(YEAR(M6)+3,100))&"-"&IF(MONTH(M6)>3, MOD(YEAR(M6)+5,100), MOD(YEAR(M6)+4,100)) -> AY 31-32 | AD5: QRC | AE5: Reference Year | AG5: Increase/Yr
K6: Start | L6: 46204 | M6: =L7+1 -> 46569 | N6: =M7+1 -> 46935 | O6: =N7+1 -> 47300 | P6: =O7+1 -> 47665 | R6: Include COLAs | AE6: AY | AF6: 26-27 | AG6: Increase/Yr | AH6: Select Project Type | AI6: 0 | AK6: Select Employee Class
B7: PI Name: | K7: End | L7: 46568 | M7: =DATE(YEAR(L7)+1,MONTH(L7),DAY(L7)) -> 46934 | N7: =DATE(YEAR(M7)+1,MONTH(M7),DAY(M7)) -> 47299 | O7: =DATE(YEAR(N7)+1,MONTH(N7),DAY(N7)) -> 47664 | P7: =DATE(YEAR(O7)+1,MONTH(O7),DAY(O7)) -> 48029 | R7: in this budget? | T7: AY/term | U7: GE Fees | V7: =ROUND(AF7*POWER(AG7,RIGHT($V$5,2)-RIGHT($AF$6,2)),0) -> 945 | W7: =IF($R$8="N",V7,ROUND(V7*AG7,0)) -> 973 | X7: =IF($R$8="N",W7,ROUND(W7*AG7,0)) -> 1002 | Y7: =IF($R$8="N",X7,ROUND(X7*AG7,0)) -> 1031 | Z7: =IF($R$8="N",Y7,ROUND(Y7*AG7,0)) -> 1061 | AA7: =IF($R$8="N",Z7,ROUND(Z7*AG7,0)) -> 1092 | AE7: AY Fees | AF7: 945 | AG7: 1.0294 | AH7: Research: on campus | AI7: 3 | AK7: 12 Month Faculty, w/ appt. .5+ FTE & Hrly | AL7: Faculty/Staff A
B8: PI DEPT: | R8: Enter Y or N | T8: SU/Term | U8: GE Fees | V8: =ROUND(AF8*POWER(AG8,RIGHT($V$5,2)-RIGHT($AF$6,2)),0) -> 799 | W8: =IF($R$8="N",V8,ROUND(V8*AG8,0)) -> 823 | X8: =IF($R$8="N",W8,ROUND(W8*AG8,0)) -> 848 | Y8: =IF($R$8="N",X8,ROUND(X8*AG8,0)) -> 873 | Z8: =IF($R$8="N",Y8,ROUND(Y8*AG8,0)) -> 899 | AA8: =IF($R$8="N",Z8,ROUND(Z8*AG8,0)) -> 926 | AE8: SU Fees | AF8: 799.38 | AG8: 1.0298 | AH8: Research: off campus | AI8: 4 | AK8: 9 Month Faculty (AY) .5+ FTE, Postdocs, Executives | AL8: Faculty/Staff B
B9: University of Oregon | R9: Payroll COLA | S9: Y | T9: AY/term | U9: GE Ins | V9: =ROUND(AF9*POWER(AG9,RIGHT($V$5,2)-RIGHT($AF$6,2)),0) -> 2775 | W9: =IF($R$8="N",V9,ROUND(V9*AG9,0)) -> 2919 | X9: =IF($R$8="N",W9,ROUND(W9*AG9,0)) -> 3071 | Y9: =IF($R$8="N",X9,ROUND(X9*AG9,0)) -> 3231 | Z9: =IF($R$8="N",Y9,ROUND(Y9*AG9,0)) -> 3399 | AA9: =IF($R$8="N",Z9,ROUND(Z9*AG9,0)) -> 3576 | AE9: AY Ins | AF9: 2775 | AG9: 1.052 | AH9: Instruction: on campus | AI9: 5 | AK9: 9 or 12 Month Faculty, w/ appt. <.5 FTE | AL9: Faculty/Staff C
B10: UO PERSONNEL | R10: Non-Payroll COLA | S10: Y | T10: SU/term | U10: GE Ins | V10: =ROUND(AF10*POWER(AG10,RIGHT($V$5,2)-RIGHT($AF$6,2)),0) -> 2355 | W10: =IF($R$8="N",V10,ROUND(V10*AG10,0)) -> 2532 | X10: =IF($R$8="N",W10,ROUND(W10*AG10,0)) -> 2722 | Y10: =IF($R$8="N",X10,ROUND(X10*AG10,0)) -> 2926 | Z10: =IF($R$8="N",Y10,ROUND(Y10*AG10,0)) -> 3145 | AA10: =IF($R$8="N",Z10,ROUND(Z10*AG10,0)) -> 3381 | AE10: SU Ins | AF10: 2355 | AG10: 1.075 | AH10: Instruction: off campus | AI10: 6 | AK10: Classified - Service | AL10: Classified Service
B11: SALARIES/WAGES | E11: SALARY | F11: Yr 1 | G11: Yr 2 | H11: Yr 3 | I11: Yr 4 | J11: Yr 5 | T11: In-state | U11: Tuition | V11: =ROUND(AF11*POWER(AG11,RIGHT($V$5,2)-RIGHT($AF$6,2)),0) -> 5841 | W11: =IF($R$8="N",V11,ROUND(V11*AG11,0)) -> 5999 | X11: =IF($R$8="N",W11,ROUND(W11*AG11,0)) -> 6161 | Y11: =IF($R$8="N",X11,ROUND(X11*AG11,0)) -> 6327 | Z11: =IF($R$8="N",Y11,ROUND(Y11*AG11,0)) -> 6498 | AA11: =IF($R$8="N",Z11,ROUND(Z11*AG11,0)) -> 6673 | AE11: In-state Tuition | AF11: 5841 | AG11: 1.027 | AH11: Other Sponsored Activity: on campus | AI11: 7 | AK11: Classified - Clerical/Skilled | AL11: Classified Skilled/Clerical | AN11: Select Personnel Type
B12: for AY 9-mo. and 12-mo. appts. | C12: Personnel Type | D12: Eclass | E12: BASE | F12: % FTE | G12: % FTE | H12: % FTE | I12: % FTE | J12: % FTE | T12: Out-of-state | U12: Tuition | V12: =ROUND(AF12*POWER(AG12,RIGHT($V$5,2)-RIGHT($AF$6,2)),0) -> 10863 | W12: =IF($R$8="N",V12,ROUND(V12*AG12,0)) -> 11156 | X12: =IF($R$8="N",W12,ROUND(W12*AG12,0)) -> 11457 | Y12: =IF($R$8="N",X12,ROUND(X12*AG12,0)) -> 11766 | Z12: =IF($R$8="N",Y12,ROUND(Y12*AG12,0)) -> 12084 | AA12: =IF($R$8="N",Z12,ROUND(Z12*AG12,0)) -> 12410 | AE12: Out-of-state Tuition | AF12: 10863 | AG12: 1.027 | AH12: Other Sponsored Activity: off campus | AI12: 8 | AK12: Classified - Technical | AL12: Classified Technical | AN12: Senior/Key Personnel
C13: Select Personnel Type | D13: 12 Month Faculty, w/ appt. .5+ FTE & Hrly | L13: =ROUND(E13*F13,0) -> 0 | M13: =IF($A$1>1,ROUND(E13*G13*$V$15,0),0) -> 0 | N13: =IF($A$1>2,ROUND(E13*H13*$V$15^2,0),0) -> 0 | O13: =IF($A$1>3,ROUND(E13*I13*$V$15^3,0),0) -> 0 | P13: =IF($A$1>4,ROUND(E13*J13*$V$15^4,0),0) -> 0 | Q13: =SUM(L13:P13) -> 0 | T13: Other UO | U13: Tuition | V13: 0 | W13: =ROUND(V13*AG13,0) -> 0 | X13: =ROUND(W13*AG13,0) -> 0 | Y13: =ROUND(X13*AG13,0) -> 0 | Z13: =ROUND(Y13*AG13,0) -> 0 | AA13: =ROUND(Z13*AG13,0) -> 0 | AE13: Tuition | AF13: 0 | AG13: 1.027 | AH13: Training Grant 8% | AI13: 9 | AK13: Temps | AL13: Temps | AN13: Other Personnel
D14: Select Employee Class | L14: =ROUND(E14*F14,0) -> 0 | M14: =IF($A$1>1,ROUND(E14*G14*$V$15,0),0) -> 0 | N14: =IF($A$1>2,ROUND(E14*H14*$V$15^2,0),0) -> 0 | O14: =IF($A$1>3,ROUND(E14*I14*$V$15^3,0),0) -> 0 | P14: =IF($A$1>4,ROUND(E14*J14*$V$15^4,0),0) -> 0 | Q14: =SUM(L14:P14) -> 0 | T14: GE COLA | V14: =IF($S$9="Y",1.04,1) -> 1.04 | AK14: Students | AL14: Students
D15: Select Employee Class | L15: =ROUND(E15*F15,0) -> 0 | M15: =IF($A$1>1,ROUND(E15*G15*$V$15,0),0) -> 0 | N15: =IF($A$1>2,ROUND(E15*H15*$V$15^2,0),0) -> 0 | O15: =IF($A$1>3,ROUND(E15*I15*$V$15^3,0),0) -> 0 | P15: =IF($A$1>4,ROUND(E15*J15*$V$15^4,0),0) -> 0 | Q15: =SUM(L15:P15) -> 0 | T15: Personnel COLA | V15: =IF($S$9="Y",1.03,1) -> 1.03 | AK15: 9 Month Faculty/Staff (SU) | AL15: Faculty/Staff C
D16: Select Employee Class | L16: =ROUND(E16*F16,0) -> 0 | M16: =IF($A$1>1,ROUND(E16*G16*$V$15,0),0) -> 0 | N16: =IF($A$1>2,ROUND(E16*H16*$V$15^2,0),0) -> 0 | O16: =IF($A$1>3,ROUND(E16*I16*$V$15^3,0),0) -> 0 | P16: =IF($A$1>4,ROUND(E16*J16*$V$15^4,0),0) -> 0 | Q16: =SUM(L16:P16) -> 0 | T16: Non-Personnel COLA | V16: =IF($S$10="Y",1.037,1) -> 1.037
D17: Select Employee Class | L17: =ROUND(E17*F17,0) -> 0 | M17: =IF($A$1>1,ROUND(E17*G17*$V$15,0),0) -> 0 | N17: =IF($A$1>2,ROUND(E17*H17*$V$15^2,0),0) -> 0 | O17: =IF($A$1>3,ROUND(E17*I17*$V$15^3,0),0) -> 0 | P17: =IF($A$1>4,ROUND(E17*J17*$V$15^4,0),0) -> 0 | Q17: =SUM(L17:P17) -> 0
D18: Select Employee Class | L18: =ROUND(E18*F18,0) -> 0 | M18: =IF($A$1>1,ROUND(E18*G18*$V$15,0),0) -> 0 | N18: =IF($A$1>2,ROUND(E18*H18*$V$15^2,0),0) -> 0 | O18: =IF($A$1>3,ROUND(E18*I18*$V$15^3,0),0) -> 0 | P18: =IF($A$1>4,ROUND(E18*J18*$V$15^4,0),0) -> 0 | Q18: =SUM(L18:P18) -> 0 | U18: Maximum Award:
D19: Select Employee Class | L19: =ROUND(E19*F19,0) -> 0 | M19: =IF($A$1>1,ROUND(E19*G19*$V$15,0),0) -> 0 | N19: =IF($A$1>2,ROUND(E19*H19*$V$15^2,0),0) -> 0 | O19: =IF($A$1>3,ROUND(E19*I19*$V$15^3,0),0) -> 0 | P19: =IF($A$1>4,ROUND(E19*J19*$V$15^4,0),0) -> 0 | Q19: =SUM(L19:P19) -> 0 | U19: Proposed Total: | V19: =Q194 -> 0
D20: Select Employee Class | L20: =ROUND(E20*F20,0) -> 0 | M20: =IF($A$1>1,ROUND(E20*G20*$V$15,0),0) -> 0 | N20: =IF($A$1>2,ROUND(E20*H20*$V$15^2,0),0) -> 0 | O20: =IF($A$1>3,ROUND(E20*I20*$V$15^3,0),0) -> 0 | P20: =IF($A$1>4,ROUND(E20*J20*$V$15^4,0),0) -> 0 | Q20: =SUM(L20:P20) -> 0 | U20: Difference: | V20: =V18-Q194 -> 0
D21: Select Employee Class | L21: =ROUND(E21*F21,0) -> 0 | M21: =IF($A$1>1,ROUND(E21*G21*$V$15,0),0) -> 0 | N21: =IF($A$1>2,ROUND(E21*H21*$V$15^2,0),0) -> 0 | O21: =IF($A$1>3,ROUND(E21*I21*$V$15^3,0),0) -> 0 | P21: =IF($A$1>4,ROUND(E21*J21*$V$15^4,0),0) -> 0 | Q21: =SUM(L21:P21) -> 0
D22: Select Employee Class | L22: =ROUND(E22*F22,0) -> 0 | M22: =IF($A$1>1,ROUND(E22*G22*$V$15,0),0) -> 0 | N22: =IF($A$1>2,ROUND(E22*H22*$V$15^2,0),0) -> 0 | O22: =IF($A$1>3,ROUND(E22*I22*$V$15^3,0),0) -> 0 | P22: =IF($A$1>4,ROUND(E22*J22*$V$15^4,0),0) -> 0 | Q22: =SUM(L22:P22) -> 0
D23: Select Employee Class | L23: =ROUND(E23*F23,0) -> 0 | M23: =IF($A$1>1,ROUND(E23*G23*$V$15,0),0) -> 0 | N23: =IF($A$1>2,ROUND(E23*H23*$V$15^2,0),0) -> 0 | O23: =IF($A$1>3,ROUND(E23*I23*$V$15^3,0),0) -> 0 | P23: =IF($A$1>4,ROUND(E23*J23*$V$15^4,0),0) -> 0 | Q23: =SUM(L23:P23) -> 0
D24: Select Employee Class | L24: =ROUND(E24*F24,0) -> 0 | M24: =IF($A$1>1,ROUND(E24*G24*$V$15,0),0) -> 0 | N24: =IF($A$1>2,ROUND(E24*H24*$V$15^2,0),0) -> 0 | O24: =IF($A$1>3,ROUND(E24*I24*$V$15^3,0),0) -> 0 | P24: =IF($A$1>4,ROUND(E24*J24*$V$15^4,0),0) -> 0 | Q24: =SUM(L24:P24) -> 0
D25: Select Employee Class | L25: =ROUND(E25*F25,0) -> 0 | M25: =IF($A$1>1,ROUND(E25*G25*$V$15,0),0) -> 0 | N25: =IF($A$1>2,ROUND(E25*H25*$V$15^2,0),0) -> 0 | O25: =IF($A$1>3,ROUND(E25*I25*$V$15^3,0),0) -> 0 | P25: =IF($A$1>4,ROUND(E25*J25*$V$15^4,0),0) -> 0 | Q25: =SUM(L25:P25) -> 0
D26: Select Employee Class | L26: =ROUND(E26*F26,0) -> 0 | M26: =IF($A$1>1,ROUND(E26*G26*$V$15,0),0) -> 0 | N26: =IF($A$1>2,ROUND(E26*H26*$V$15^2,0),0) -> 0 | O26: =IF($A$1>3,ROUND(E26*I26*$V$15^3,0),0) -> 0 | P26: =IF($A$1>4,ROUND(E26*J26*$V$15^4,0),0) -> 0 | Q26: =SUM(L26:P26) -> 0
D27: Select Employee Class | L27: =ROUND(E27*F27,0) -> 0 | M27: =IF($A$1>1,ROUND(E27*G27*$V$15,0),0) -> 0 | N27: =IF($A$1>2,ROUND(E27*H27*$V$15^2,0),0) -> 0 | O27: =IF($A$1>3,ROUND(E27*I27*$V$15^3,0),0) -> 0 | P27: =IF($A$1>4,ROUND(E27*J27*$V$15^4,0),0) -> 0 | Q27: =SUM(L27:P27) -> 0
B28: UO PERSONNEL | E28: SALARY | F28: Yr 1 | G28: Yr 2 | H28: Yr 3 | I28: Yr 4 | J28: Yr 5
B29: Summer salaries for 9-mo. appts. | C29: Personnel Type | D29: Eclass | E29: BASE | F29: % FTE | G29: % FTE | H29: % FTE | I29: % FTE | J29: % FTE
C30: =_xlfn.IFNA(VLOOKUP(B30,$B$13:$C$27,2,FALSE)," ") | D30: =IF(B30="","","9 Month Faculty/Staff (SU)") | L30: =ROUND(E30*F30,0) -> 0 | M30: =IF($A$1>1,ROUND(E30*G30*$V$15,0),0) -> 0 | N30: =IF($A$1>2,ROUND(E30*H30*$V$15^2,0),0) -> 0 | O30: =IF($A$1>3,ROUND(E30*I30*$V$15^3,0),0) -> 0 | P30: =IF($A$1>4,ROUND(E30*J30*$V$15^4,0),0) -> 0 | Q30: =SUM(L30:P30) -> 0
C31: =_xlfn.IFNA(VLOOKUP(B31,$B$13:$C$27,2,FALSE)," ") | D31: =IF(B31="","","9 Month Faculty/Staff (SU)") | L31: =ROUND(E31*F31,0) -> 0 | M31: =IF($A$1>1,ROUND(E31*G31*$V$15,0),0) -> 0 | N31: =IF($A$1>2,ROUND(E31*H31*$V$15^2,0),0) -> 0 | O31: =IF($A$1>3,ROUND(E31*I31*$V$15^3,0),0) -> 0 | P31: =IF($A$1>4,ROUND(E31*J31*$V$15^4,0),0) -> 0 | Q31: =SUM(L31:P31) -> 0
C32: =_xlfn.IFNA(VLOOKUP(B32,$B$13:$C$27,2,FALSE)," ") | D32: =IF(B32="","","9 Month Faculty/Staff (SU)") | L32: =ROUND(E32*F32,0) -> 0 | M32: =IF($A$1>1,ROUND(E32*G32*$V$15,0),0) -> 0 | N32: =IF($A$1>2,ROUND(E32*H32*$V$15^2,0),0) -> 0 | O32: =IF($A$1>3,ROUND(E32*I32*$V$15^3,0),0) -> 0 | P32: =IF($A$1>4,ROUND(E32*J32*$V$15^4,0),0) -> 0 | Q32: =SUM(L32:P32) -> 0
C33: =_xlfn.IFNA(VLOOKUP(B33,$B$13:$C$27,2,FALSE)," ") | D33: =IF(B33="","","9 Month Faculty/Staff (SU)") | L33: =ROUND(E33*F33,0) -> 0 | M33: =IF($A$1>1,ROUND(E33*G33*$V$15,0),0) -> 0 | N33: =IF($A$1>2,ROUND(E33*H33*$V$15^2,0),0) -> 0 | O33: =IF($A$1>3,ROUND(E33*I33*$V$15^3,0),0) -> 0 | P33: =IF($A$1>4,ROUND(E33*J33*$V$15^4,0),0) -> 0 | Q33: =SUM(L33:P33) -> 0
C34: =_xlfn.IFNA(VLOOKUP(B34,$B$13:$C$27,2,FALSE)," ") | D34: =IF(B34="","","9 Month Faculty/Staff (SU)") | L34: =ROUND(E34*F34,0) -> 0 | M34: =IF($A$1>1,ROUND(E34*G34*$V$15,0),0) -> 0 | N34: =IF($A$1>2,ROUND(E34*H34*$V$15^2,0),0) -> 0 | O34: =IF($A$1>3,ROUND(E34*I34*$V$15^3,0),0) -> 0 | P34: =IF($A$1>4,ROUND(E34*J34*$V$15^4,0),0) -> 0 | Q34: =SUM(L34:P34) -> 0
C35: =_xlfn.IFNA(VLOOKUP(B35,$B$13:$C$27,2,FALSE)," ") | D35: =IF(B35="","","9 Month Faculty/Staff (SU)") | L35: =ROUND(E35*F35,0) -> 0 | M35: =IF($A$1>1,ROUND(E35*G35*$V$15,0),0) -> 0 | N35: =IF($A$1>2,ROUND(E35*H35*$V$15^2,0),0) -> 0 | O35: =IF($A$1>3,ROUND(E35*I35*$V$15^3,0),0) -> 0 | P35: =IF($A$1>4,ROUND(E35*J35*$V$15^4,0),0) -> 0 | Q35: =SUM(L35:P35) -> 0
B37: Regular Students | C37: Other Personnel | E37: =15*12*173.33 -> 31199.4 | L37: =E37*F37 -> 0 | M37: =IF($A$1>1,ROUND(E37*G37*$V$15,0),0) -> 0 | N37: =IF($A$1>2,ROUND(E37*H37*$V$15^2,0),0) -> 0 | O37: =IF($A$1>3,ROUND(E37*I37*$V$15^3,0),0) -> 0 | P37: =IF($A$1>3,ROUND(F37*J37*$V$15^3,0),0) -> 0 | Q37: =SUM(L37:P37) -> 0
B38: Work Study Students | C38: Other Personnel | L38: 0 | M38: =IF($A$1>1,ROUND(L38*$V$15,0),0) -> 0 | N38: =IF($A$1>2,ROUND(M38*$V$15,0),0) -> 0 | O38: =IF($A$1>3,ROUND(N38*$V$15,0),0) -> 0 | P38: =IF($A$1>4,ROUND(O38*$V$15,0),0) -> 0 | Q38: =SUM(L38:P38) -> 0
B40: GE I and GE II (Full Time Tuition) | E40: SALARY | F40: Yr 1 | G40: Yr 2 | H40: Yr 3 | I40: Yr 4 | J40: Yr 5
B41: GE Salaries | C41: Personnel Type | E41: AY BASE | F41: % | G41: % | H41: % | I41: % | J41: %
B42: GE I or II AY effort | C42: Other Personnel | L42: =ROUND($E$42*F42*F44/3,0) -> 0 | M42: =IF($A$1>1,ROUND($V$14*$E$42*G42*G44/3,0),0) -> 0 | N42: =IF($A$1>2,ROUND($V$14^2*$E$42*H42*H44/3,0),0) -> 0 | O42: =IF($A$1>3,ROUND($V$14^3*$E$42*I42*I44/3,0),0) -> 0 | P42: =IF($A$1>4,ROUND($V$14^4*$E$42*J42*J44/3,0),0) -> 0 | Q42: =SUM(L42:P42) -> 0
B43: GE I or II summer effort | C43: Other Personnel | E43: -leave blank- | L43: =ROUND($E$42*F45*F43/3,0) -> 0 | M43: =IF($A$1>1,ROUND($V$14*$E$42*G45*G43/3,0),0) -> 0 | N43: =IF($A$1>2,ROUND($V$14^2*$E$42*H45*H43/3,0),0) -> 0 | O43: =IF($A$1>3,ROUND($V$14^3*$E$42*I45*I43/3,0),0) -> 0 | P43: =IF($A$1>4,ROUND($V$14^4*$E$42*J45*J43/3,0),0) -> 0 | Q43: =SUM(L43:P43) -> 0
E44: Total Academic Terms
...

Sheet SF424 Form Summary
B2: SF 424 Form Details
B3: EPCS Number | C3: ='R&R Generic Detailed Budget'!D3 -> 0
B4: Project Period | C4: =CONCATENATE(TEXT('R&R Generic Detailed Budget'!L6,"mm/dd/yyyy")," - ",TEXT('R&R Generic Detailed Budget'!$P$7,"mm/dd/yyyy")) -> 07/01/2026 - 06/30/2031
A6: Prefix | B6: SF424 Budget Categories | C6: YEAR 1 | D6: YEAR 2 | E6: YEAR 3 | F6: YEAR 4 | G6: YEAR 5 | H6: TOTAL | K6: DGA Instructions:
C7: =CONCATENATE(TEXT('R&R Generic Detailed Budget'!$L$6,"mm/dd/yyyy")," - ",TEXT('R&R Generic Detailed Budget'!$L$7,"mm/dd/yyyy")) -> 07/01/2026 - 06/30/2027 | D7: =CONCATENATE(TEXT('R&R Generic Detailed Budget'!$M$6,"mm/dd/yyyy")," - ",TEXT('R&R Generic Detailed Budget'!$M$7,"mm/dd/yyyy")) -> 07/01/2027 - 06/30/2028 | E7: =CONCATENATE(TEXT('R&R Generic Detailed Budget'!$N$6,"mm/dd/yyyy")," - ",TEXT('R&R Generic Detailed Budget'!$N$7,"mm/dd/yyyy")) -> 07/01/2028 - 06/30/2029 | F7: =CONCATENATE(TEXT('R&R Generic Detailed Budget'!$O$6,"mm/dd/yyyy")," - ",TEXT('R&R Generic Detailed Budget'!$O$7,"mm/dd/yyyy")) -> 07/01/2029 - 06/30/2030 | G7: =CONCATENATE(TEXT('R&R Generic Detailed Budget'!$P$6,"mm/dd/yyyy")," - ",TEXT('R&R Generic Detailed Budget'!$P$7,"mm/dd/yyyy")) -> 07/01/2030 - 06/30/2031 | K7: - Add Employee names in column K gray highlighted cells - Employee names must match names listed in R&R Generic Detailed Budget - Undergraduate and Graduate Students are already entered. -Once employees are entered, details in cells L3:AI30 will autopopulate | AL7: =IF($J7="","",SUMIF(Personnel_Data,$J7,'Personnel Data'!H:H)) | AM7: =IF($J7="","",SUMIF(Personnel_Data,$J7,'Personnel Data'!I:I)) | AN7: =IF($J7="","",SUMIF(Personnel_Data,$J7,'Personnel Data'!J:J)) | AO7: =IF($J7="","",SUMIF(Personnel_Data,$J7,'Personnel Data'!K:K))
A8: A. | B8: Senior/Key Personnel | C8: =SUMIF('R&R Generic Detailed Budget'!$C:$C,'SF424 Form Summary'!$B8,'R&R Generic Detailed Budget'!L:L) -> 0 | D8: =SUMIF('R&R Generic Detailed Budget'!$C:$C,'SF424 Form Summary'!$B8,'R&R Generic Detailed Budget'!M:M) -> 0 | E8: =SUMIF('R&R Generic Detailed Budget'!$C:$C,'SF424 Form Summary'!$B8,'R&R Generic Detailed Budget'!N:N) -> 0 | F8: =SUMIF('R&R Generic Detailed Budget'!$C:$C,'SF424 Form Summary'!$B8,'R&R Generic Detailed Budget'!O:O) -> 0 | G8: =SUMIF('R&R Generic Detailed Budget'!$C:$C,'SF424 Form Summary'!$B8,'R&R Generic Detailed Budget'!P:P) -> 0 | H8: =SUM(C8:G8) -> 0 | K8: SENIOR/KEY PERSONNEL | L8: Year 1 Cal Mos | M8: Year 1 Salary | N8: Year 1 Fringe | O8: Year 1 TOTAL | Q8: Year 2 Cal Mos | R8: Year 2 Salary | S8: Year 2 Fringe | T8: Year 2 TOTAL | V8: Year 3 Cal Mos | W8: Year 3 Salary | X8: Year 3 Fringe | Y8: Year 3 TOTAL | AA8: Year 4 Cal Mos | AB8: Year 4 Salary | AC8: Year 4 Fringe | AD8: Year 4 TOTAL | AF8: Year 5 Cal Mos | AG8: Year 5 Salary | AH8: Year 5 Fringe | AI8: Year 5 TOTAL | AK8: Year 1 Base | AL8: Year 2 Base | AM8: Year 3 Base | AN8: Year 4 Base | AO8: Year 5 Base
A9: B. | B9: Other Personnel | C9: =SUMIF('R&R Generic Detailed Budget'!$C:$C,'SF424 Form Summary'!$B9,'R&R Generic Detailed Budget'!L:L) -> 0 | D9: =SUMIF('R&R Generic Detailed Budget'!$C:$C,'SF424 Form Summary'!$B9,'R&R Generic Detailed Budget'!M:M) -> 0 | E9: =SUMIF('R&R Generic Detailed Budget'!$C:$C,'SF424 Form Summary'!$B9,'R&R Generic Detailed Budget'!N:N) -> 0 | F9: =SUMIF('R&R Generic Detailed Budget'!$C:$C,'SF424 Form Summary'!$B9,'R&R Generic Detailed Budget'!O:O) -> 0 | G9: =SUMIF('R&R Generic Detailed Budget'!$C:$C,'SF424 Form Summary'!$B9,'R&R Generic Detailed Budget'!P:P) -> 0 | H9: =SUM(C9:G9) -> 0 | L9: =IF($K9="","",SUMIF(Personnel_Data,$K9,'Personnel Data'!S:S)) | M9: =IF($K9="","",SUMIF(Personnel_Data,$K9,'Personnel Data'!Z:Z)) | N9: =IF($K9="","",SUMIF(Personnel_Data,$K9,'Personnel Data'!AM:AM)) | O9: =SUM(M9:N9) -> 0 | Q9: =IF($K9="","",SUMIF(Personnel_Data,$K9,'Personnel Data'!T:T)) | R9: =IF($K9="","",SUMIF(Personnel_Data,$K9,'Personnel Data'!AA:AA)) | S9: =IF($K9="","",SUMIF(Personnel_Data,$K9,'Personnel Data'!AN:AN)) | T9: =SUM(R9:S9) -> 0 | V9: =IF($K9="","",SUMIF(Personnel_Data,$K9,'Personnel Data'!U:U)) | W9: =IF($K9="","",SUMIF(Personnel_Data,$K9,'Personnel Data'!AB:AB)) | X9: =IF($K9="","",SUMIF(Personnel_Data,$K9,'Personnel Data'!AO:AO)) | Y9: =SUM(W9:X9) -> 0 | AA9: =IF($K9="","",SUMIF(Personnel_Data,$K9,'Personnel Data'!V:V)) | AB9: =IF($K9="","",SUMIF(Personnel_Data,$K9,'Personnel Data'!AC:AC)) | AC9: =IF($K9="","",SUMIF(Personnel_Data,$K9,'Personnel Data'!AP:AP)) | AD9: =SUM(AB9:AC9) -> 0 | AF9: =IF($K9="","",SUMIF(Personnel_Data,$K9,'Personnel Data'!W:W)) | AG9: =IF($K9="","",SUMIF(Personnel_Data,$K9,'Personnel Data'!AD:AD)) | AH9: =IF($K9="","",SUMIF(Personnel_Data,$K9,'Personnel Data'!AQ:AQ)) | AI9: =SUM(AG9:AH9) -> 0 | AK9: =IF($K9="","",SUMIF(Personnel_Data,$K9,'Personnel Data'!G:G)) | AL9: =IF($K9="","",SUMIF(Personnel_Data,$K9,'Personnel Data'!H:H)) | AM9: =IF($K9="","",SUMIF(Personnel_Data,$K9,'Personnel Data'!I:I)) | AN9: =IF($K9="","",SUMIF(Personnel_Data,$K9,'Personnel Data'!J:J)) | AO9: =IF($K9="","",SUMIF(Personnel_Data,$K9,'Personnel Data'!K:K))
A10: C. | B10: Equipment | C10: ='R&R Generic Detailed Budget'!L96 -> 0 | D10: ='R&R Generic Detailed Budget'!M96 -> 0 | E10: ='R&R Generic Detailed Budget'!N96 -> 0 | F10: ='R&R Generic Detailed Budget'!O96 -> 0 | G10: ='R&R Generic Detailed Budget'!P96 -> 0 | H10: =SUM(C10:G10) -> 0 | L10: =IF($K10="","",SUMIF(Personnel_Data,$K10,'Personnel Data'!S:S)) | M10: =IF($K10="","",SUMIF(Personnel_Data,$K10,'Personnel Data'!Z:Z)) | N10: =IF($K10="","",SUMIF(Personnel_Data,$K10,'Personnel Data'!AM:AM)) | O10: =SUM(M10:N10) -> 0 | Q10: =IF($K10="","",SUMIF(Personnel_Data,$K10,'Personnel Data'!T:T)) | R10: =IF($K10="","",SUMIF(Personnel_Data,$K10,'Personnel Data'!AA:AA)) | S10: =IF($K10="","",SUMIF(Personnel_Data,$K10,'Personnel Data'!AN:AN)) | T10: =SUM(R10:S10) -> 0 | V10: =IF($K10="","",SUMIF(Personnel_Data,$K10,'Personnel Data'!U:U)) | W10: =IF($K10="","",SUMIF(Personnel_Data,$K10,'Personnel Data'!AB:AB)) | X10: =IF($K10="","",SUMIF(Personnel_Data,$K10,'Personnel Data'!AO:AO)) | Y10: =SUM(W10:X10) -> 0 | AA10: =IF($K10="","",SUMIF(Personnel_Data,$K10,'Personnel Data'!V:V)) | AB10: =IF($K10="","",SUMIF(Personnel_Data,$K10,'Personnel Data'!AC:AC)) | AC10: =IF($K10="","",SUMIF(Personnel_Data,$K10,'Personnel Data'!AP:AP)) | AD10: =SUM(AB10:AC10) -> 0 | AF10: =IF($K10="","",SUMIF(Personnel_Data,$K10,'Personnel Data'!W:W)) | AG10: =IF($K10="","",SUMIF(Personnel_Data,$K10,'Personnel Data'!AD:AD)) | AH10: =IF($K10="","",SUMIF(Personnel_Data,$K10,'Personnel Data'!AQ:AQ)) | AI10: =SUM(AG10:AH10) -> 0 | AK10: =IF($K10="","",SUMIF(Personnel_Data,$K10,'Personnel Data'!G:G)) | AL10: =IF($K10="","",SUMIF(Personnel_Data,$K10,'Personnel Data'!H:H)) | AM10: =IF($K10="","",SUMIF(Personnel_Data,$K10,'Personnel Data'!I:I)) | AN10: =IF($K10="","",SUMIF(Personnel_Data,$K10,'Personnel Data'!J:J)) | AO10: =IF($K10="","",SUMIF(Personnel_Data,$K10,'Personnel Data'!K:K))
A11: D. | B11: Travel | C11: ='R&R Generic Detailed Budget'!L102 -> 0 | D11: ='R&R Generic Detailed Budget'!M102 -> 0 | E11: ='R&R Generic Detailed Budget'!N102 -> 0 | F11: ='R&R Generic Detailed Budget'!O102 -> 0 | G11: ='R&R Generic Detailed Budget'!P102 -> 0 | H11: =SUM(C11:G11) -> 0 | L11: =IF($K11="","",SUMIF(Personnel_Data,$K11,'Personnel Data'!S:S)) | M11: =IF($K11="","",SUMIF(Personnel_Data,$K11,'Personnel Data'!Z:Z)) | N11: =IF($K11="","",SUMIF(Personnel_Data,$K11,'Personnel Data'!AM:AM)) | O11: =SUM(M11:N11) -> 0 | Q11: =IF($K11="","",SUMIF(Personnel_Data,$K11,'Personnel Data'!T:T)) | R11: =IF($K11="","",SUMIF(Personnel_Data,$K11,'Personnel Data'!AA:AA)) | S11: =IF($K11="","",SUMIF(Personnel_Data,$K11,'Personnel Data'!AN:AN)) | T11: =SUM(R11:S11) -> 0 | V11: =IF($K11="","",SUMIF(Personnel_Data,$K11,'Personnel Data'!U:U)) | W11: =IF($K11="","",SUMIF(Personnel_Data,$K11,'Personnel Data'!AB:AB)) | X11: =IF($K11="","",SUMIF(Personnel_Data,$K11,'Personnel Data'!AO:AO)) | Y11: =SUM(W11:X11) -> 0 | AA11: =IF($K11="","",SUMIF(Personnel_Data,$K11,'Personnel Data'!V:V)) | AB11: =IF($K11="","",SUMIF(Personnel_Data,$K11,'Personnel Data'!AC:AC)) | AC11: =IF($K11="","",SUMIF(Personnel_Data,$K11,'Personnel Data'!AP:AP)) | AD11: =SUM(AB11:AC11) -> 0 | AF11: =IF($K11="","",SUMIF(Personnel_Data,$K11,'Personnel Data'!W:W)) | AG11: =IF($K11="","",SUMIF(Personnel_Data,$K11,'Personnel Data'!AD:AD)) | AH11: =IF($K11="","",SUMIF(Personnel_Data,$K11,'Personnel Data'!AQ:AQ)) | AI11: =SUM(AG11:AH11) -> 0 | AK11: =IF($K11="","",SUMIF(Personnel_Data,$K11,'Personnel Data'!G:G)) | AL11: =IF($K11="","",SUMIF(Personnel_Data,$K11,'Personnel Data'!H:H)) | AM11: =IF($K11="","",SUMIF(Personnel_Data,$K11,'Personnel Data'!I:I)) | AN11: =IF($K11="","",SUMIF(Personnel_Data,$K11,'Personnel Data'!J:J)) | AO11: =IF($K11="","",SUMIF(Personnel_Data,$K11,'Personnel Data'!K:K))
A12: E. | B12: Participant/Trainee Support Costs | C12: ='R&R Generic Detailed Budget'!L109 -> 0 | D12: ='R&R Generic Detailed Budget'!M109 -> 0 | E12: ='R&R Generic Detailed Budget'!N109 -> 0 | F12: ='R&R Generic Detailed Budget'!O109 -> 0 | G12: ='R&R Generic Detailed Budget'!P109 -> 0 | H12: =SUM(C12:G12) -> 0 | L12: =IF($K12="","",SUMIF(Personnel_Data,$K12,'Personnel Data'!S:S)) | M12: =IF($K12="","",SUMIF(Personnel_Data,$K12,'Personnel Data'!Z:Z)) | N12: =IF($K12="","",SUMIF(Personnel_Data,$K12,'Personnel Data'!AM:AM)) | O12: =SUM(M12:N12) -> 0 | Q12: =IF($K12="","",SUMIF(Personnel_Data,$K12,'Personnel Data'!T:T)) | R12: =IF($K12="","",SUMIF(Personnel_Data,$K12,'Personnel Data'!AA:AA)) | S12: =IF($K12="","",SUMIF(Personnel_Data,$K12,'Personnel Data'!AN:AN)) | T12: =SUM(R12:S12) -> 0 | V12: =IF($K12="","",SUMIF(Personnel_Data,$K12,'Personnel Data'!U:U)) | W12: =IF($K12="","",SUMIF(Personnel_Data,$K12,'Personnel Data'!AB:AB)) | X12: =IF($K12="","",SUMIF(Personnel_Data,$K12,'Personnel Data'!AO:AO)) | Y12: =SUM(W12:X12) -> 0 | AA12: =IF($K12="","",SUMIF(Personnel_Data,$K12,'Personnel Data'!V:V)) | AB12: =IF($K12="","",SUMIF(Personnel_Data,$K12,'Personnel Data'!AC:AC)) | AC12: =IF($K12="","",SUMIF(Personnel_Data,$K12,'Personnel Data'!AP:AP)) | AD12: =SUM(AB12:AC12) -> 0 | AF12: =IF($K12="","",SUMIF(Personnel_Data,$K12,'Personnel Data'!W:W)) | AG12: =IF($K12="","",SUMIF(Personnel_Data,$K12,'Personnel Data'!AD:AD)) | AH12: =IF($K12="","",SUMIF(Personnel_Data,$K12,'Personnel Data'!AQ:AQ)) | AI12: =SUM(AG12:AH12) -> 0 | AK12: =IF($K12="","",SUMIF(Personnel_Data,$K12,'Personnel Data'!G:G)) | AL12: =IF($K12="","",SUMIF(Personnel_Data,$K12,'Personnel Data'!H:H)) | AM12: =IF($K12="","",SUMIF(Personnel_Data,$K12,'Personnel Data'!I:I)) | AN12: =IF($K12="","",SUMIF(Personnel_Data,$K12,'Personnel Data'!J:J)) | AO12: =IF($K12="","",SUMIF(Personnel_Data,$K12,'Personnel Data'!K:K))
A13: F. | B13: Other Direct Costs | C13: =SUM(C14:C18)+SUM(C22:C26) -> 0 | D13: =SUM(D14:D18)+SUM(D22:D26) -> 0 | E13: ='R&R Generic Detailed Budget'!N111 -> 0 | F13: ='R&R Generic Detailed Budget'!O111 -> 0 | G13: ='R&R Generic Detailed Budget'!P111 -> 0 | H13: =SUM(C13:G13) -> 0 | L13: =IF(K13="","",VLOOKUP($K13,Personnel_Data,19,FALSE)) | M13: =IF($K13="","",SUMIF(Personnel_Data,$K13,'Personnel Data'!Z:Z)) | N13: =IF(L13="","",SUMIF(Personnel_Data,$K13,'Personnel Data'!AM:AM)) | O13: =SUM(M13:N13) -> 0 | Q13: =IF($K13="","",SUMIF(Personnel_Data,$K13,'Personnel Data'!T:T)) | R13: =IF($K13="","",SUMIF(Personnel_Data,$K13,'Personnel Data'!AA:AA)) | S13: =IF($K13="","",SUMIF(Personnel_Data,$K13,'Personnel Data'!AN:AN)) | T13: =SUM(R13:S13) -> 0 | V13: =IF($K13="","",SUMIF(Personnel_Data,$K13,'Personnel Data'!U:U)) | W13: =IF($K13="","",SUMIF(Personnel_Data,$K13,'Personnel Data'!AB:AB)) | X13: =IF($K13="","",SUMIF(Personnel_Data,$K13,'Personnel Data'!AO:AO)) | Y13: =SUM(W13:X13) -> 0 | AA13: =IF($K13="","",SUMIF(Personnel_Data,$K13,'Personnel Data'!V:V)) | AB13: =IF($K13="","",SUMIF(Personnel_Data,$K13,'Personnel Data'!AC:AC)) | AC13: =IF($K13="","",SUMIF(Personnel_Data,$K13,'Personnel Data'!AP:AP)) | AD13: =SUM(AB13:AC13) -> 0 | AF13: =IF($K13="","",SUMIF(Personnel_Data,$K13,'Personnel Data'!W:W)) | AG13: =IF($K13="","",SUMIF(Personnel_Data,$K13,'Personnel Data'!AD:AD)) | AH13: =IF($K13="","",SUMIF(Personnel_Data,$K13,'Personnel Data'!AQ:AQ)) | AI13: =SUM(AG13:AH13) -> 0 | AK13: =IF($K13="","",SUMIF(Personnel_Data,$K13,'Personnel Data'!G:G)) | AL13: =IF($K13="","",SUMIF(Personnel_Data,$K13,'Personnel Data'!H:H)) | AM13: =IF($K13="","",SUMIF(Personnel_Data,$K13,'Personnel Data'!I:I)) | AN13: =IF($K13="","",SUMIF(Personnel_Data,$K13,'Personnel Data'!J:J)) | AO13: =IF($K13="","",SUMIF(Personnel_Data,$K13,'Personnel Data'!K:K))
A14: F.1. | B14: Materials and Supplies | C14: ='R&R Generic Detailed Budget'!L118 -> 0 | D14: ='R&R Generic Detailed Budget'!M118 -> 0 | E14: ='R&R Generic Detailed Budget'!N118 -> 0 | F14: ='R&R Generic Detailed Budget'!O118 -> 0 | G14: ='R&R Generic Detailed Budget'!P118 -> 0 | H14: =SUM(C14:G14) -> 0 | L14: =IF(K14="","",VLOOKUP($K14,Personnel_Data,19,FALSE)) | M14: =IF($K14="","",SUMIF(Personnel_Data,$K14,'Personnel Data'!Z:Z)) | N14: =IF(L14="","",SUMIF(Personnel_Data,$K14,'Personnel Data'!AM:AM)) | O14: =SUM(M14:N14) -> 0 | Q14: =IF($K14="","",SUMIF(Personnel_Data,$K14,'Personnel Data'!T:T)) | R14: =IF($K14="","",SUMIF(Personnel_Data,$K14,'Personnel Data'!AA:AA)) | S14: =IF($K14="","",SUMIF(Personnel_Data,$K14,'Personnel Data'!AN:AN)) | T14: =SUM(R14:S14) -> 0 | V14: =IF($K14="","",SUMIF(Personnel_Data,$K14,'Personnel Data'!U:U)) | W14: =IF($K14="","",SUMIF(Personnel_Data,$K14,'Personnel Data'!AB:AB)) | X14: =IF($K14="","",SUMIF(Personnel_Data,$K14,'Personnel Data'!AO:AO)) | Y14: =SUM(W14:X14) -> 0 | AA14: =IF($K14="","",SUMIF(Personnel_Data,$K14,'Personnel Data'!V:V)) | AB14: =IF($K14="","",SUMIF(Personnel_Data,$K14,'Personnel Data'!AC:AC)) | AC14: =IF($K14="","",SUMIF(Personnel_Data,$K14,'Personnel Data'!AP:AP)) | AD14: =SUM(AB14:AC14) -> 0 | AF14: =IF($K14="","",SUMIF(Personnel_Data,$K14,'Personnel Data'!W:W)) | AG14: =IF($K14="","",SUMIF(Personnel_Data,$K14,'Personnel Data'!AD:AD)) | AH14: =IF($K14="","",SUMIF(Personnel_Data,$K14,'Personnel Data'!AQ:AQ)) | AI14: =SUM(AG14:AH14) -> 0 | AK14: =IF($K14="","",SUMIF(Personnel_Data,$K14,'Personnel Data'!G:G)) | AL14: =IF($K14="","",SUMIF(Personnel_Data,$K14,'Personnel Data'!H:H)) | AM14: =IF($K14="","",SUMIF(Personnel_Data,$K14,'Personnel Data'!I:I)) | AN14: =IF($K14="","",SUMIF(Personnel_Data,$K14,'Personnel Data'!J:J)) | AO14: =IF($K14="","",SUMIF(Personnel_Data,$K14,'Personnel Data'!K:K))
A15: F.2. | B15: Publication Costs | C15: ='R&R Generic Detailed Budget'!L124 -> 0 | D15: ='R&R Generic Detailed Budget'!M124 -> 0 | E15: ='R&R Generic Detailed Budget'!N124 -> 0 | F15: ='R&R Generic Detailed Budget'!O124 -> 0 | G15: ='R&R Generic Detailed Budget'!P124 -> 0 | H15: =SUM(C15:G15) -> 0 | L15: =IF(K15="","",VLOOKUP($K15,Personnel_Data,19,FALSE)) | M15: =IF($K15="","",SUMIF(Personnel_Data,$K15,'Personnel Data'!Z:Z)) | N15: =IF(L15="","",SUMIF(Personnel_Data,$K15,'Personnel Data'!AM:AM)) | O15: =SUM(M15:N15) -> 0 | Q15: =IF($K15="","",SUMIF(Personnel_Data,$K15,'Personnel Data'!T:T)) | R15: =IF($K15="","",SUMIF(Personnel_Data,$K15,'Personnel Data'!AA:AA)) | S15: =IF($K15="","",SUMIF(Personnel_Data,$K15,'Personnel Data'!AN:AN)) | T15: =SUM(R15:S15) -> 0 | V15: =IF($K15="","",SUMIF(Personnel_Data,$K15,'Personnel Data'!U:U)) | W15: =IF($K15="","",SUMIF(Personnel_Data,$K15,'Personnel Data'!AB:AB)) | X15: =IF($K15="","",SUMIF(Personnel_Data,$K15,'Personnel Data'!AO:AO)) | Y15: =SUM(W15:X15) -> 0 | AA15: =IF($K15="","",SUMIF(Personnel_Data,$K15,'Personnel Data'!V:V)) | AB15: =IF($K15="","",SUMIF(Personnel_Data,$K15,'Personnel Data'!AC:AC)) | AC15: =IF($K15="","",SUMIF(Personnel_Data,$K15,'Personnel Data'!AP:AP)) | AD15: =SUM(AB15:AC15) -> 0 | AF15: =IF($K15="","",SUMIF(Personnel_Data,$K15,'Personnel Data'!W:W)) | AG15: =IF($K15="","",SUMIF(Personnel_Data,$K15,'Personnel Data'!AD:AD)) | AH15: =IF($K15="","",SUMIF(Personnel_Data,$K15,'Personnel Data'!AQ:AQ)) | AI15: =SUM(AG15:AH15) -> 0 | AK15: =IF($K15="","",SUMIF(Personnel_Data,$K15,'Personnel Data'!G:G)) | AL15: =IF($K15="","",SUMIF(Personnel_Data,$K15,'Personnel Data'!H:H)) | AM15: =IF($K15="","",SUMIF(Personnel_Data,$K15,'Personnel Data'!I:I)) | AN15: =IF($K15="","",SUMIF(Personnel_Data,$K15,'Personnel Data'!J:J)) | AO15: =IF($K15="","",SUMIF(Personnel_Data,$K15,'Personnel Data'!K:K))
A16: F.3. | B16: Consultant Services | C16: ='R&R Generic Detailed Budget'!L131 -> 0 | D16: ='R&R Generic Detailed Budget'!M131 -> 0 | E16: ='R&R Generic Detailed Budget'!N131 -> 0 | F16: ='R&R Generic Detailed Budget'!O131 -> 0 | G16: ='R&R Generic Detailed Budget'!P131 -> 0 | H16: =SUM(C16:G16) -> 0 | L16: =IF(K16="","",VLOOKUP($K16,Personnel_Data,19,FALSE)) | M16: =IF($K16="","",SUMIF(Personnel_Data,$K16,'Personnel Data'!Z:Z)) | N16: =IF(L16="","",SUMIF(Personnel_Data,$K16,'Personnel Data'!AM:AM)) | O16: =SUM(M16:N16) -> 0 | Q16: =IF($K16="","",SUMIF(Personnel_Data,$K16,'Personnel Data'!T:T)) | R16: =IF($K16="","",SUMIF(Personnel_Data,$K16,'Personnel Data'!AA:AA)) | S16: =IF($K16="","",SUMIF(Personnel_Data,$K16,'Personnel Data'!AN:AN)) | T16: =SUM(R16:S16) -> 0 | V16: =IF($K16="","",SUMIF(Personnel_Data,$K16,'Personnel Data'!U:U)) | W16: =IF($K16="","",SUMIF(Personnel_Data,$K16,'Personnel Data'!AB:AB)) | X16: =IF($K16="","",SUMIF(Personnel_Data,$K16,'Personnel Data'!AO:AO)) | Y16: =SUM(W16:X16) -> 0 | AA16: =IF($K16="","",SUMIF(Personnel_Data,$K16,'Personnel Data'!V:V)) | AB16: =IF($K16="","",SUMIF(Personnel_Data,$K16,'Personnel Data'!AC:AC)) | AC16: =IF($K16="","",SUMIF(Personnel_Data,$K16,'Personnel Data'!AP:AP)) | AD16: =SUM(AB16:AC16) -> 0 | AF16: =IF($K16="","",SUMIF(Personnel_Data,$K16,'Personnel Data'!W:W)) | AG16: =IF($K16="","",SUMIF(Personnel_Data,$K16,'Personnel Data'!AD:AD)) | AH16: =IF($K16="","",SUMIF(Personnel_Data,$K16,'Personnel Data'!AQ:AQ)) | AI16: =SUM(AG16:AH16) -> 0 | AK16: =IF($K16="","",SUMIF(Personnel_Data,$K16,'Personnel Data'!G:G)) | AL16: =IF($K16="","",SUMIF(Personnel_Data,$K16,'Personnel Data'!H:H)) | AM16: =IF($K16="","",SUMIF(Personnel_Data,$K16,'Personnel Data'!I:I)) | AN16: =IF($K16="","",SUMIF(Personnel_Data,$K16,'Personnel Data'!J:J)) | AO16: =IF($K16="","",SUMIF(Personnel_Data,$K16,'Personnel Data'!K:K))
A17: F.4. | B17: ADP/Computer Services | C17: ='R&R Generic Detailed Budget'!L137 -> 0 | D17: ='R&R Generic Detailed Budget'!M137 -> 0 | E17: ='R&R Generic Detailed Budget'!N137 -> 0 | F17: ='R&R Generic Detailed Budget'!O137 -> 0 | G17: ='R&R Generic Detailed Budget'!P137 -> 0 | H17: =SUM(C17:G17) -> 0 | Q17: =IF($K17="","",SUMIF(Personnel_Data,$K17,'Personnel Data'!T:T)) | R17: =IF($K17="","",SUMIF(Personnel_Data,$K17,'Personnel Data'!AA:AA)) | S17: =IF($K17="","",SUMIF(Personnel_Data,$K17,'Personnel Data'!AN:AN)) | AK17: =IF($K17="","",SUMIF(Personnel_Data,$K17,'Personnel Data'!G:G)) | AL17: =IF($K17="","",SUMIF(Personnel_Data,$K17,'Personnel Data'!H:H)) | AM17: =IF($K17="","",SUMIF(Personnel_Data,$K17,'Personnel Data'!I:I)) | AN17: =IF($K17="","",SUMIF(Personnel_Data,$K17,'Personnel Data'!J:J)) | AO17: =IF($K17="","",SUMIF(Personnel_Data,$K17,'Personnel Data'!K:K))
A18: F.5. | B18: Subawards/Consortium/Contractual Costs | C18: ='R&R Generic Detailed Budget'!L154 -> 0 | D18: ='R&R Generic Detailed Budget'!M154 -> 0 | E18: ='R&R Generic Detailed Budget'!N154 -> 0 | F18: ='R&R Generic Detailed Budget'!O154 -> 0 | G18: ='R&R Generic Detailed Budget'!P154 -> 0 | H18: =SUM(C18:G18) -> 0 | K18: OTHER PERSONNEL | L18: Year 1 Cal Mos | M18: Year 1 Salary | N18: Year 1 Fringe | O18: Year 1 TOTAL | Q18: Year 2 Cal Mos | R18: Year 2 Salary | S18: Year 2 Fringe | T18: Year 2 TOTAL | V18: Year 3 Cal Mos | W18: Year 3 Salary | X18: Year 3 Fringe | Y18: Year 3 TOTAL | AA18: Year 4 Cal Mos | AB18: Year 4 Salary | AC18: Year 4 Fringe | AD18: Year 4 TOTAL | AF18: Year 5 Cal Mos | AG18: Year 5 Salary | AH18: Year 5 Fringe | AI18: Year 5 TOTAL
B19: ='R&R Generic Detailed Budget'!B139 -> [Total costs, Subrecipient Institution 1] | C19: ='R&R Generic Detailed Budget'!L141 -> 0 | D19: ='R&R Generic Detailed Budget'!M141 -> 0 | E19: ='R&R Generic Detailed Budget'!N141 -> 0 | F19: ='R&R Generic Detailed Budget'!O141 -> 0 | G19: ='R&R Generic Detailed Budget'!P141 -> 0 | H19: =SUM(C19:G19) -> 0 | K19: Undergraduate Students | L19: =IF(K19="N/A","",VLOOKUP($K19,Personnel_Data,19,FALSE)) -> 0 | M19: =VLOOKUP($K19,Personnel_Data,26,FALSE) -> 0 | N19: =VLOOKUP($K19,Personnel_Data,39,FALSE) -> 0 | O19: =SUM(M19:N19) -> 0 | Q19: =VLOOKUP($K19,Personnel_Data,19,FALSE) -> 0 | R19: =VLOOKUP($K19,Personnel_Data,27,FALSE) -> 0 | S19: =VLOOKUP($K19,Personnel_Data,40,FALSE) -> 0 | T19: =SUM(R19:S19) -> 0 | V19: =VLOOKUP($K19,Personnel_Data,21,FALSE) -> 0 | W19: =VLOOKUP($K19,Personnel_Data,28,FALSE) -> 0 | X19: =VLOOKUP($K19,Personnel_Data,41,FALSE) -> 0 | Y19: =SUM(W19:X19) -> 0 | AA19: =VLOOKUP($K19,Personnel_Data,22,FALSE) -> 0 | AB19: =VLOOKUP($K19,Personnel_Data,29,FALSE) -> 0 | AC19: =VLOOKUP($K19,Personnel_Data,42,FALSE) -> 0 | AD19: =SUM(AB19:AC19) -> 0 | AF19: =VLOOKUP($K19,Personnel_Data,22,FALSE) -> 0 | AG19: =VLOOKUP($K19,Personnel_Data,30,FALSE) -> 0 | AH19: =VLOOKUP($K19,Personnel_Data,42,FALSE) -> 0 | AI19: =SUM(AG19:AH19) -> 0
B20: ='R&R Generic Detailed Budget'!B143 -> [Total costs, Subrecipient Institution 2] | C20: ='R&R Generic Detailed Budget'!L145 -> 0 | D20: ='R&R Generic Detailed Budget'!M145 -> 0 | E20: ='R&R Generic Detailed Budget'!N145 -> 0 | F20: ='R&R Generic Detailed Budget'!O145 -> 0 | G20: ='R&R Generic Detailed Budget'!P145 -> 0 | H20: =SUM(C20:G20) -> 0 | K20: Graduate Students | L20: =IF(K20="ADD NAME","",VLOOKUP($K20,Personnel_Data,19,FALSE)) -> 0 | M20: =IF(K20="","",SUMIF(Personnel_Data,$K20,'Personnel Data'!Z:Z)) -> 0 | N20: =IF(K20="","",VLOOKUP($K20,Personnel_Data,39,FALSE)) -> 0 | O20: =SUM(M20:N20) -> 0 | Q20: =VLOOKUP($K20,Personnel_Data,20,FALSE) -> 0 | R20: =VLOOKUP($K20,Personnel_Data,27,FALSE) -> 0 | S20: =VLOOKUP($K20,Personnel_Data,40,FALSE) -> 0 | T20: =SUM(R20:S20) -> 0 | V20: =VLOOKUP($K20,Personnel_Data,21,FALSE) -> 0 | W20: =VLOOKUP($K20,Personnel_Data,28,FALSE) -> 0 | X20: =VLOOKUP($K20,Personnel_Data,41,FALSE) -> 0 | Y20: =SUM(W20:X20) -> 0 | AA20: =VLOOKUP($K20,Personnel_Data,22,FALSE) -> 0 | AB20: =VLOOKUP($K20,Personnel_Data,29,FALSE) -> 0 | AC20: =VLOOKUP($K20,Personnel_Data,42,FALSE) -> 0 | AD20: =SUM(AB20:AC20) -> 0 | AF20: =VLOOKUP($K20,Personnel_Data,23,FALSE) -> 0 | AG20: =VLOOKUP($K20,Personnel_Data,30,FALSE) -> 0 | AH20: =VLOOKUP($K20,Personnel_Data,43,FALSE) -> 0 | AI20: =SUM(AG20:AH20) -> 0
B21: ='R&R Generic Detailed Budget'!B147 -> [Total costs, Subrecipient Institution 3] | C21: ='R&R Generic Detailed Budget'!L149 -> 0 | D21: ='R&R Generic Detailed Budget'!M149 -> 0 | E21: ='R&R Generic Detailed Budget'!N149 -> 0 | F21: ='R&R Generic Detailed Budget'!O149 -> 0 | G21: ='R&R Generic Detailed Budget'!P149 -> 0 | H21: =SUM(C21:G21) -> 0 | L21: =IF($K21="","",SUMIF(Personnel_Data,$K21,'Personnel Data'!S:S)) | M21: =IF($K21="","",SUMIF(Personnel_Data,$K21,'Personnel Data'!Z:Z)) | N21: =IF($K21="","",SUMIF(Personnel_Data,$K21,'Personnel Data'!AM:AM)) | O21: =SUM(M21:N21) -> 0 | Q21: =IF($K21="","",SUMIF(Personnel_Data,$K21,'Personnel Data'!T:T)) | R21: =IF($K21="","",SUMIF(Personnel_Data,$K21,'Personnel Data'!AA:AA)) | S21: =IF($K21="","",SUMIF(Personnel_Data,$K21,'Personnel Data'!AN:AN)) | T21: =SUM(R21:S21) -> 0 | V21: =IF($K21="","",SUMIF(Personnel_Data,$K21,'Personnel Data'!U:U)) | W21: =IF($K21="","",SUMIF(Personnel_Data,$K21,'Personnel Data'!AB:AB)) | X21: =IF($K21="","",SUMIF(Personnel_Data,$K21,'Personnel Data'!AO:AO)) | Y21: =SUM(W21:X21) -> 0 | AA21: =IF($K21="","",SUMIF(Personnel_Data,$K21,'Personnel Data'!V:V)) | AB21: =IF($K21="","",SUMIF(Personnel_Data,$K21,'Personnel Data'!AC:AC)) | AC21: =IF($K21="","",SUMIF(Personnel_Data,$K21,'Personnel Data'!AP:AP)) | AD21: =SUM(AB21:AC21) -> 0 | AF21: =IF($K21="","",SUMIF(Personnel_Data,$K21,'Personnel Data'!W:W)) | AG21: =IF($K21="","",SUMIF(Personnel_Data,$K21,'Personnel Data'!AD:AD)) | AH21: =IF($K21="","",SUMIF(Personnel_Data,$K21,'Personnel Data'!AQ:AQ)) | AI21: =SUM(AG21:AH21) -> 0
A22: F.6. | B22: Equipment or Facility Rental/User Fees | C22: ='R&R Generic Detailed Budget'!L158 -> 0 | D22: ='R&R Generic Detailed Budget'!M158 -> 0 | E22: ='R&R Generic Detailed Budget'!N158 -> 0 | F22: ='R&R Generic Detailed Budget'!O158 -> 0 | G22: ='R&R Generic Detailed Budget'!P158 -> 0 | H22: =SUM(C22:G22) -> 0 | L22: =IF($K22="","",SUMIF(Personnel_Data,$K22,'Personnel Data'!S:S)) | M22: =IF($K22="","",SUMIF(Personnel_Data,$K22,'Personnel Data'!Z:Z)) | N22: =IF($K22="","",SUMIF(Personnel_Data,$K22,'Personnel Data'!AM:AM)) | O22: =SUM(M22:N22) -> 0 | Q22: =IF($K22="","",SUMIF(Personnel_Data,$K22,'Personnel Data'!T:T)) | R22: =IF($K22="","",SUMIF(Personnel_Data,$K22,'Personnel Data'!AA:AA)) | S22: =IF($K22="","",SUMIF(Personnel_Data,$K22,'Personnel Data'!AN:AN)) | T22: =SUM(R22:S22) -> 0 | V22: =IF($K22="","",SUMIF(Personnel_Data,$K22,'Personnel Data'!U:U)) | W22: =IF($K22="","",SUMIF(Personnel_Data,$K22,'Personnel Data'!AB:AB)) | X22: =IF($K22="","",SUMIF(Personnel_Data,$K22,'Personnel Data'!AO:AO)) | Y22: =SUM(W22:X22) -> 0 | AA22: =IF($K22="","",SUMIF(Personnel_Data,$K22,'Personnel Data'!V:V)) | AB22: =IF($K22="","",SUMIF(Personnel_Data,$K22,'Personnel Data'!AC:AC)) | AC22: =IF($K22="","",SUMIF(Personnel_Data,$K22,'Personnel Data'!AP:AP)) | AD22: =SUM(AB22:AC22) -> 0 | AF22: =IF($K22="","",SUMIF(Personnel_Data,$K22,'Personnel Data'!W:W)) | AG22: =IF($K22="","",SUMIF(Personnel_Data,$K22,'Personnel Data'!AD:AD)) | AH22: =IF($K22="","",SUMIF(Personnel_Data,$K22,'Personnel Data'!AQ:AQ)) | AI22: =SUM(AG22:AH22) -> 0
A23: F.7. | B23: Alterations and Renovations | C23: ='R&R Generic Detailed Budget'!L163 -> 0 | D23: ='R&R Generic Detailed Budget'!M163 -> 0 | E23: ='R&R Generic Detailed Budget'!N163 -> 0 | F23: ='R&R Generic Detailed Budget'!O163 -> 0 | G23: ='R&R Generic Detailed Budget'!P163 -> 0 | H23: =SUM(C23:G23) -> 0 | L23: =IF($K23="","",SUMIF(Personnel_Data,$K23,'Personnel Data'!S:S)) | M23: =IF($K23="","",SUMIF(Personnel_Data,$K23,'Personnel Data'!Z:Z)) | N23: =IF($K23="","",SUMIF(Personnel_Data,$K23,'Personnel Data'!AM:AM)) | O23: =SUM(M23:N23) -> 0 | Q23: =IF($K23="","",SUMIF(Personnel_Data,$K23,'Personnel Data'!T:T)) | R23: =IF($K23="","",SUMIF(Personnel_Data,$K23,'Personnel Data'!AA:AA)) | S23: =IF($K23="","",SUMIF(Personnel_Data,$K23,'Personnel Data'!AN:AN)) | T23: =SUM(R23:S23) -> 0 | V23: =IF($K23="","",SUMIF(Personnel_Data,$K23,'Personnel Data'!U:U)) | W23: =IF($K23="","",SUMIF(Personnel_Data,$K23,'Personnel Data'!AB:AB)) | X23: =IF($K23="","",SUMIF(Personnel_Data,$K23,'Personnel Data'!AO:AO)) | Y23: =SUM(W23:X23) -> 0 | AA23: =IF($K23="","",SUMIF(Personnel_Data,$K23,'Personnel Data'!V:V)) | AB23: =IF($K23="","",SUMIF(Personnel_Data,$K23,'Personnel Data'!AC:AC)) | AC23: =IF($K23="","",SUMIF(Personnel_Data,$K23,'Personnel Data'!AP:AP)) | AD23: =SUM(AB23:AC23) -> 0 | AF23: =IF($K23="","",SUMIF(Personnel_Data,$K23,'Personnel Data'!W:W)) | AG23: =IF($K23="","",SUMIF(Personnel_Data,$K23,'Personnel Data'!AD:AD)) | AH23: =IF($K23="","",SUMIF(Personnel_Data,$K23,'Personnel Data'!AQ:AQ)) | AI23: =SUM(AG23:AH23) -> 0
A24: F.8. | B24: Graduate Employee Tuition | C24: ='R&R Generic Detailed Budget'!L169 -> 0 | D24: ='R&R Generic Detailed Budget'!M169 -> 0 | E24: ='R&R Generic Detailed Budget'!N169 -> 0 | F24: ='R&R Generic Detailed Budget'!O169 -> 0 | G24: ='R&R Generic Detailed Budget'!P169 -> 0 | H24: =SUM(C24:G24) -> 0 | L24: =IF($K24="","",SUMIF(Personnel_Data,$K24,'Personnel Data'!S:S)) | M24: =IF($K24="","",SUMIF(Personnel_Data,$K24,'Personnel Data'!Z:Z)) | N24: =IF($K24="","",SUMIF(Personnel_Data,$K24,'Personnel Data'!AM:AM)) | O24: =SUM(M24:N24) -> 0 | Q24: =IF($K24="","",SUMIF(Personnel_Data,$K24,'Personnel Data'!T:T)) | R24: =IF($K24="","",SUMIF(Personnel_Data,$K24,'Personnel Data'!AA:AA)) | S24: =IF($K24="","",SUMIF(Personnel_Data,$K24,'Personnel Data'!AN:AN)) | T24: =SUM(R24:S24) -> 0 | V24: =IF($K24="","",SUMIF(Personnel_Data,$K24,'Personnel Data'!U:U)) | W24: =IF($K24="","",SUMIF(Personnel_Data,$K24,'Personnel Data'!AB:AB)) | X24: =IF($K24="","",SUMIF(Personnel_Data,$K24,'Personnel Data'!AO:AO)) | Y24: =SUM(W24:X24) -> 0 | AA24: =IF($K24="","",SUMIF(Personnel_Data,$K24,'Personnel Data'!V:V)) | AB24: =IF($K24="","",SUMIF(Personnel_Data,$K24,'Personnel Data'!AC:AC)) | AC24: =IF($K24="","",SUMIF(Personnel_Data,$K24,'Personnel Data'!AP:AP)) | AD24: =SUM(AB24:AC24) -> 0 | AF24: =IF($K24="","",SUMIF(Personnel_Data,$K24,'Personnel Data'!W:W)) | AG24: =IF($K24="","",SUMIF(Personnel_Data,$K24,'Personnel Data'!AD:AD)) | AH24: =IF($K24="","",SUMIF(Personnel_Data,$K24,'Personnel Data'!AQ:AQ)) | AI24: =SUM(AG24:AH24) -> 0
A25: F.9. | B25: ='R&R Generic Detailed Budget'!B171 -> [Other Direct - ADD Description if Applicable] | C25: ='R&R Generic Detailed Budget'!L176 -> 0 | D25: ='R&R Generic Detailed Budget'!M176 -> 0 | E25: ='R&R Generic Detailed Budget'!N176 -> 0 | F25: ='R&R Generic Detailed Budget'!O176 -> 0 | G25: ='R&R Generic Detailed Budget'!P176 -> 0 | H25: =SUM(C25:G25) -> 0 | L25: =IF($K25="","",SUMIF(Personnel_Data,$K25,'Personnel Data'!S:S)) | M25: =IF($K25="","",SUMIF(Personnel_Data,$K25,'Personnel Data'!Z:Z)) | N25: =IF($K25="","",SUMIF(Personnel_Data,$K25,'Personnel Data'!AM:AM)) | O25: =SUM(M25:N25) -> 0 | Q25: =IF($K25="","",SUMIF(Personnel_Data,$K25,'Personnel Data'!T:T)) | R25: =IF($K25="","",SUMIF(Personnel_Data,$K25,'Personnel Data'!AA:AA)) | S25: =IF($K25="","",SUMIF(Personnel_Data,$K25,'Personnel Data'!AN:AN)) | T25: =SUM(R25:S25) -> 0 | V25: =IF($K25="","",SUMIF(Personnel_Data,$K25,'Personnel Data'!U:U)) | W25: =IF($K25="","",SUMIF(Personnel_Data,$K25,'Personnel Data'!AB:AB)) | X25: =IF($K25="","",SUMIF(Personnel_Data,$K25,'Personnel Data'!AO:AO)) | Y25: =SUM(W25:X25) -> 0 | AA25: =IF($K25="","",SUMIF(Personnel_Data,$K25,'Personnel Data'!V:V)) | AB25: =IF($K25="","",SUMIF(Personnel_Data,$K25,'Personnel Data'!AC:AC)) | AC25: =IF($K25="","",SUMIF(Personnel_Data,$K25,'Personnel Data'!AP:AP)) | AD25: =SUM(AB25:AC25) -> 0 | AF25: =IF($K25="","",SUMIF(Personnel_Data,$K25,'Personnel Data'!W:W)) | AG25: =IF($K25="","",SUMIF(Personnel_Data,$K25,'Personnel Data'!AD:AD)) | AH25: =IF($K25="","",SUMIF(Personnel_Data,$K25,'Personnel Data'!AQ:AQ)) | AI25: =SUM(AG25:AH25) -> 0
A26: F.10. | B26: ='R&R Generic Detailed Budget'!B177 -> [Other Direct - ADD Description if Applicable] | C26: ='R&R Generic Detailed Budget'!L182 -> 0 | D26: ='R&R Generic Detailed Budget'!M182 -> 0 | E26: ='R&R Generic Detailed Budget'!N182 -> 0 | F26: ='R&R Generic Detailed Budget'!O182 -> 0 | G26: ='R&R Generic Detailed Budget'!P182 -> 0 | H26: =SUM(C26:G26) -> 0 | L26: =IF($K26="","",SUMIF(Personnel_Data,$K26,'Personnel Data'!S:S)) | M26: =IF($K26="","",SUMIF(Personnel_Data,$K26,'Personnel Data'!Z:Z)) | N26: =IF($K26="","",SUMIF(Personnel_Data,$K26,'Personnel Data'!AM:AM)) | O26: =SUM(M26:N26) -> 0 | Q26: =IF($K26="","",SUMIF(Personnel_Data,$K26,'Personnel Data'!T:T)) | R26: =IF($K26="","",SUMIF(Personnel_Data,$K26,'Personnel Data'!AA:AA)) | S26: =IF($K26="","",SUMIF(Personnel_Data,$K26,'Personnel Data'!AN:AN)) | T26: =SUM(R26:S26) -> 0 | V26: =IF($K26="","",SUMIF(Personnel_Data,$K26,'Personnel Data'!U:U)) | W26: =IF($K26="","",SUMIF(Personnel_Data,$K26,'Personnel Data'!AB:AB)) | X26: =IF($K26="","",SUMIF(Personnel_Data,$K26,'Personnel Data'!AO:AO)) | Y26: =SUM(W26:X26) -> 0 | AA26: =IF($K26="","",SUMIF(Personnel_Data,$K26,'Personnel Data'!V:V)) | AB26: =IF($K26="","",SUMIF(Personnel_Data,$K26,'Personnel Data'!AC:AC)) | AC26: =IF($K26="","",SUMIF(Personnel_Data,$K26,'Personnel Data'!AP:AP)) | AD26: =SUM(AB26:AC26) -> 0 | AF26: =IF($K26="","",SUMIF(Personnel_Data,$K26,'Personnel Data'!W:W)) | AG26: =IF($K26="","",SUMIF(Personnel_Data,$K26,'Personnel Data'!AD:AD)) | AH26: =IF($K26="","",SUMIF(Personnel_Data,$K26,'Personnel Data'!AQ:AQ)) | AI26: =SUM(AG26:AH26) -> 0
A27: G. | B27: Total Direct Costs | C27: ='R&R Generic Detailed Budget'!L184 -> 0 | D27: ='R&R Generic Detailed Budget'!M184 -> 0 | E27: ='R&R Generic Detailed Budget'!N184 -> 0 | F27: ='R&R Generic Detailed Budget'!O184 -> 0 | G27: ='R&R Generic Detailed Budget'!P184 -> 0 | H27: =SUM(C27:G27) -> 0 | L27: =IF($K27="","",SUMIF(Personnel_Data,$K27,'Personnel Data'!S:S)) | M27: =IF($K27="","",SUMIF(Personnel_Data,$K27,'Personnel Data'!Z:Z)) | N27: =IF($K27="","",SUMIF(Personnel_Data,$K27,'Personnel Data'!AM:AM)) | O27: =SUM(M27:N27) -> 0 | Q27: =IF($K27="","",SUMIF(Personnel_Data,$K27,'Personnel Data'!T:T)) | R27: =IF($K27="","",SUMIF(Personnel_Data,$K27,'Personnel Data'!AA:AA)) | S27: =IF($K27="","",SUMIF(Personnel_Data,$K27,'Personnel Data'!AN:AN)) | T27: =SUM(R27:S27) -> 0 | V27: =IF($K27="","",SUMIF(Personnel_Data,$K27,'Personnel Data'!U:U)) | W27: =IF($K27="","",SUMIF(Personnel_Data,$K27,'Personnel Data'!AB:AB)) | X27: =IF($K27="","",SUMIF(Personnel_Data,$K27,'Personnel Data'!AO:AO)) | Y27: =SUM(W27:X27) -> 0 | AA27: =IF($K27="","",SUMIF(Personnel_Data,$K27,'Personnel Data'!V:V)) | AB27: =IF($K27="","",SUMIF(Personnel_Data,$K27,'Personnel Data'!AC:AC)) | AC27: =IF($K27="","",SUMIF(Personnel_Data,$K27,'Personnel Data'!AP:AP)) | AD27: =SUM(AB27:AC27) -> 0 | AF27: =IF($K27="","",SUMIF(Personnel_Data,$K27,'Personnel Data'!W:W)) | AG27: =IF($K27="","",SUMIF(Personnel_Data,$K27,'Personnel Data'!AD:AD)) | AH27: =IF($K27="","",SUMIF(Personnel_Data,$K27,'Personnel Data'!AQ:AQ))
B28: MTDC Base | C28: ='R&R Generic Detailed Budget'!L186 -> 0 | D28: ='R&R Generic Detailed Budget'!M186 -> 0 | E28: ='R&R Generic Detailed Budget'!N186 -> 0 | F28: ='R&R Generic Detailed Budget'!O186 -> 0 | G28: ='R&R Generic Detailed Budget'!P186 -> 0 | H28: =SUM(C28:G28) -> 0 | L28: =IF($K28="","",SUMIF(Personnel_Data,$K28,'Personnel Data'!S:S)) | M28: =IF($K28="","",SUMIF(Personnel_Data,$K28,'Personnel Data'!Z:Z)) | N28: =IF($K28="","",SUMIF(Personnel_Data,$K28,'Personnel Data'!AM:AM)) | O28: =SUM(M28:N28) -> 0 | Q28: =IF($K28="","",SUMIF(Personnel_Data,$K28,'Personnel Data'!T:T)) | R28: =IF($K28="","",SUMIF(Personnel_Data,$K28,'Personnel Data'!AA:AA)) | S28: =IF($K28="","",SUMIF(Personnel_Data,$K28,'Personnel Data'!AN:AN)) | T28: =SUM(R28:S28) -> 0 | V28: =IF($K28="","",SUMIF(Personnel_Data,$K28,'Personnel Data'!U:U)) | W28: =IF($K28="","",SUMIF(Personnel_Data,$K28,'Personnel Data'!AB:AB)) | X28: =IF($K28="","",SUMIF(Personnel_Data,$K28,'Personnel Data'!AO:AO)) | Y28: =SUM(W28:X28) -> 0 | AA28: =IF($K28="","",SUMIF(Personnel_Data,$K28,'Personnel Data'!V:V)) | AB28: =IF($K28="","",SUMIF(Personnel_Data,$K28,'Personnel Data'!AC:AC)) | AC28: =IF($K28="","",SUMIF(Personnel_Data,$K28,'Personnel Data'!AP:AP)) | AD28: =SUM(AB28:AC28) -> 0 | AF28: =IF($K28="","",SUMIF(Personnel_Data,$K28,'Personnel Data'!W:W)) | AG28: =IF($K28="","",SUMIF(Personnel_Data,$K28,'Personnel Data'!AD:AD)) | AH28: =IF($K28="","",SUMIF(Personnel_Data,$K28,'Personnel Data'!AQ:AQ))
A29: H. | B29: Indirect costs | C29: ='R&R Generic Detailed Budget'!L192 -> 0 | D29: ='R&R Generic Detailed Budget'!M192 -> 0 | E29: ='R&R Generic Detailed Budget'!N192 -> 0 | F29: ='R&R Generic Detailed Budget'!O192 -> 0 | G29: ='R&R Generic Detailed Budget'!P192 -> 0 | H29: =SUM(C29:G29) -> 0 | L29: =IF($K29="","",SUMIF(Personnel_Data,$K29,'Personnel Data'!S:S)) | M29: =IF($K29="","",SUMIF(Personnel_Data,$K29,'Personnel Data'!Z:Z)) | N29: =IF($K29="","",SUMIF(Personnel_Data,$K29,'Personnel Data'!AM:AM)) | O29: =SUM(M29:N29) -> 0 | Q29: =IF($K29="","",SUMIF(Personnel_Data,$K29,'Personnel Data'!T:T)) | R29: =IF($K29="","",SUMIF(Personnel_Data,$K29,'Personnel Data'!AA:AA)) | S29: =IF($K29="","",SUMIF(Personnel_Data,$K29,'Personnel Data'!AN:AN)) | T29: =SUM(R29:S29) -> 0 | V29: =IF($K29="","",SUMIF(Personnel_Data,$K29,'Personnel Data'!U:U)) | W29: =IF($K29="","",SUMIF(Personnel_Data,$K29,'Personnel Data'!AB:AB)) | X29: =IF($K29="","",SUMIF(Personnel_Data,$K29,'Personnel Data'!AO:AO)) | Y29: =SUM(W29:X29) -> 0 | AA29: =IF($K29="","",SUMIF(Personnel_Data,$K29,'Personnel Data'!V:V)) | AB29: =IF($K29="","",SUMIF(Personnel_Data,$K29,'Personnel Data'!AC:AC)) | AC29: =IF($K29="","",SUMIF(Personnel_Data,$K29,'Personnel Data'!AP:AP)) | AD29: =SUM(AB29:AC29) -> 0 | AF29: =IF($K29="","",SUMIF(Personnel_Data,$K29,'Personnel Data'!W:W)) | AG29: =IF($K29="","",SUMIF(Personnel_Data,$K29,'Personnel Data'!AD:AD)) | AH29: =IF($K29="","",SUMIF(Personnel_Data,$K29,'Personnel Data'!AQ:AQ))
A30: I. | B30: Total Direct and Indirect Costs | C30: ='R&R Generic Detailed Budget'!L194 -> 0 | D30: ='R&R Generic Detailed Budget'!M194 -> 0 | E30: ='R&R Generic Detailed Budget'!N194 -> 0 | F30: ='R&R Generic Detailed Budget'!O194 -> 0 | G30: ='R&R Generic Detailed Budget'!P194 -> 0 | H30: =SUM(C30:G30) -> 0 | L30: =IF($K30="","",SUMIF(Personnel_Data,$K30,'Personnel Data'!S:S)) | M30: =IF($K30="","",SUMIF(Personnel_Data,$K30,'Personnel Data'!Z:Z)) | N30: =IF($K30="","",SUMIF(Personnel_Data,$K30,'Personnel Data'!AM:AM)) | O30: =SUM(M30:N30) -> 0 | Q30: =IF($K30="","",SUMIF(Personnel_Data,$K30,'Personnel Data'!T:T)) | R30: =IF($K30="","",SUMIF(Personnel_Data,$K30,'Personnel Data'!AA:AA)) | S30: =IF($K30="","",SUMIF(Personnel_Data,$K30,'Personnel Data'!AN:AN)) | T30: =SUM(R30:S30) -> 0 | V30: =IF($K30="","",SUMIF(Personnel_Data,$K30,'Personnel Data'!U:U)) | W30: =IF($K30="","",SUMIF(Personnel_Data,$K30,'Personnel Data'!AB:AB)) | X30: =IF($K30="","",SUMIF(Personnel_Data,$K30,'Personnel Data'!AO:AO)) | Y30: =SUM(W30:X30) -> 0 | AA30: =IF($K30="","",SUMIF(Personnel_Data,$K30,'Personnel Data'!V:V)) | AB30: =IF($K30="","",SUMIF(Personnel_Data,$K30,'Personnel Data'!AC:AC)) | AC30: =IF($K30="","",SUMIF(Personnel_Data,$K30,'Personnel Data'!AP:AP)) | AD30: =SUM(AB30:AC30) -> 0 | AF30: =IF($K30="","",SUMIF(Personnel_Data,$K30,'Personnel Data'!W:W)) | AG30: =IF($K30="","",SUMIF(Personnel_Data,$K30,'Personnel Data'!AD:AD)) | AH30: =IF($K30="","",SUMIF(Personnel_Data,$K30,'Personnel Data'!AQ:AQ))
L31: =IF($K31="","",SUMIF(Personnel_Data,$K31,'Personnel Data'!S:S)) | M31: =IF($K31="","",SUMIF(Personnel_Data,$K31,'Personnel Data'!Z:Z)) | N31: =IF($K31="","",SUMIF(Personnel_Data,$K31,'Personnel Data'!AM:AM)) | O31: =SUM(M31:N31) -> 0 | Q31: =IF($K31="","",SUMIF(Personnel_Data,$K31,'Personnel Data'!T:T)) | R31: =IF($K31="","",SUMIF(Personnel_Data,$K31,'Personnel Data'!AA:AA)) | S31: =IF($K31="","",SUMIF(Personnel_Data,$K31,'Personnel Data'!AN:AN)) | T31: =SUM(R31:S31) -> 0 | V31: =IF($K31="","",SUMIF(Personnel_Data,$K31,'Personnel Data'!U:U)) | W31: =IF($K31="","",SUMIF(Personnel_Data,$K31,'Personnel Data'!AB:AB)) | X31: =IF($K31="","",SUMIF(Personnel_Data,$K31,'Personnel Data'!AO:AO)) | Y31: =SUM(W31:X31) -> 0 | AA31: =IF($K31="","",SUMIF(Personnel_Data,$K31,'Personnel Data'!V:V)) | AB31: =IF($K31="","",SUMIF(Personnel_Data,$K31,'Personnel Data'!AC:AC)) | AC31: =IF($K31="","",SUMIF(Personnel_Data,$K31,'Personnel Data'!AP:AP)) | AD31: =SUM(AB31:AC31) -> 0 | AF31: =IF($K31="","",SUMIF(Personnel_Data,$K31,'Personnel Data'!W:W)) | AG31: =IF($K31="","",SUMIF(Personnel_Data,$K31,'Personnel Data'!AD:AD)) | AH31: =IF($K31="","",SUMIF(Personnel_Data,$K31,'Personnel Data'!AQ:AQ))
L32: =IF($K32="","",SUMIF(Personnel_Data,$K32,'Personnel Data'!S:S)) | M32: =IF($K32="","",SUMIF(Personnel_Data,$K32,'Personnel Data'!Z:Z)) | N32: =IF($K32="","",SUMIF(Personnel_Data,$K32,'Personnel Data'!AM:AM)) | O32: =SUM(M32:N32) -> 0 | Q32: =IF($K32="","",SUMIF(Personnel_Data,$K32,'Personnel Data'!T:T)) | R32: =IF($K32="","",SUMIF(Personnel_Data,$K32,'Personnel Data'!AA:AA)) | S32: =IF($K32="","",SUMIF(Personnel_Data,$K32,'Personnel Data'!AN:AN)) | T32: =SUM(R32:S32) -> 0 | V32: =IF($K32="","",SUMIF(Personnel_Data,$K32,'Personnel Data'!U:U)) | W32: =IF($K32="","",SUMIF(Personnel_Data,$K32,'Personnel Data'!AB:AB)) | X32: =IF($K32="","",SUMIF(Personnel_Data,$K32,'Personnel Data'!AO:AO)) | Y32: =SUM(W32:X32) -> 0 | AA32: =IF($K32="","",SUMIF(Personnel_Data,$K32,'Personnel Data'!V:V)) | AB32: =IF($K32="","",SUMIF(Personnel_Data,$K32,'Personnel Data'!AC:AC)) | AC32: =IF($K32="","",SUMIF(Personnel_Data,$K32,'Personnel Data'!AP:AP)) | AD32: =SUM(AB32:AC32) -> 0 | AF32: =IF($K32="","",SUMIF(Personnel_Data,$K32,'Personnel Data'!W:W)) | AG32: =IF($K32="","",SUMIF(Personnel_Data,$K32,'Personnel Data'!AD:AD)) | AH32: =IF($K32="","",SUMIF(Personnel_Data,$K32,'Personnel Data'!AQ:AQ))
L33: =IF($K33="","",SUMIF(Personnel_Data,$K33,'Personnel Data'!S:S)) | M33: =IF($K33="","",SUMIF(Personnel_Data,$K33,'Personnel Data'!Z:Z)) | N33: =IF($K33="","",SUMIF(Personnel_Data,$K33,'Personnel Data'!AM:AM)) | O33: =SUM(M33:N33) -> 0 | Q33: =IF($K33="","",SUMIF(Personnel_Data,$K33,'Personnel Data'!T:T)) | R33: =IF($K33="","",SUMIF(Personnel_Data,$K33,'Personnel Data'!AA:AA)) | S33: =IF($K33="","",SUMIF(Personnel_Data,$K33,'Personnel Data'!AN:AN)) | T33: =SUM(R33:S33) -> 0 | V33: =IF($K33="","",SUMIF(Personnel_Data,$K33,'Personnel Data'!U:U)) | W33: =IF($K33="","",SUMIF(Personnel_Data,$K33,'Personnel Data'!AB:AB)) | X33: =IF($K33="","",SUMIF(Personnel_Data,$K33,'Personnel Data'!AO:AO)) | Y33: =SUM(W33:X33) -> 0 | AA33: =IF($K33="","",SUMIF(Personnel_Data,$K33,'Personnel Data'!V:V)) | AB33: =IF($K33="","",SUMIF(Personnel_Data,$K33,'Personnel Data'!AC:AC)) | AC33: =IF($K33="","",SUMIF(Personnel_Data,$K33,'Personnel Data'!AP:AP)) | AD33: =SUM(AB33:AC33) -> 0 | AF33: =IF($K33="","",SUMIF(Personnel_Data,$K33,'Personnel Data'!W:W)) | AG33: =IF($K33="","",SUMIF(Personnel_Data,$K33,'Personnel Data'!AD:AD)) | AH33: =IF($K33="","",SUMIF(Personnel_Data,$K33,'Personnel Data'!AQ:AQ))
L34: =IF($K34="","",SUMIF(Personnel_Data,$K34,'Personnel Data'!S:S)) | M34: =IF($K34="","",SUMIF(Personnel_Data,$K34,'Personnel Data'!Z:Z)) | N34: =IF($K34="","",SUMIF(Personnel_Data,$K34,'Personnel Data'!AM:AM)) | O34: =SUM(M34:N34) -> 0 | Q34: =IF($K34="","",SUMIF(Personnel_Data,$K34,'Personnel Data'!T:T)) | R34: =IF($K34="","",SUMIF(Personnel_Data,$K34,'Personnel Data'!AA:AA)) | S34: =IF($K34="","",SUMIF(Personnel_Data,$K34,'Personnel Data'!AN:AN)) | T34: =SUM(R34:S34) -> 0 | V34: =IF($K34="","",SUMIF(Personnel_Data,$K34,'Personnel Data'!U:U)) | W34: =IF($K34="","",SUMIF(Personnel_Data,$K34,'Personnel Data'!AB:AB)) | X34: =IF($K34="","",SUMIF(Personnel_Data,$K34,'Personnel Data'!AO:AO)) | Y34: =SUM(W34:X34) -> 0 | AA34: =IF($K34="","",SUMIF(Personnel_Data,$K34,'Personnel Data'!V:V)) | AB34: =IF($K34="","",SUMIF(Personnel_Data,$K34,'Personnel Data'!AC:AC)) | AC34: =IF($K34="","",SUMIF(Personnel_Data,$K34,'Personnel Data'!AP:AP)) | AD34: =SUM(AB34:AC34) -> 0 | AF34: =IF($K34="","",SUMIF(Personnel_Data,$K34,'Personnel Data'!W:W)) | AG34: =IF($K34="","",SUMIF(Personnel_Data,$K34,'Personnel Data'!AD:AD)) | AH34: =IF($K34="","",SUMIF(Personnel_Data,$K34,'Personnel Data'!AQ:AQ))
L35: =IF($K35="","",SUMIF(Personnel_Data,$K35,'Personnel Data'!S:S)) | M35: =IF($K35="","",SUMIF(Personnel_Data,$K35,'Personnel Data'!Z:Z)) | N35: =IF($K35="","",SUMIF(Personnel_Data,$K35,'Personnel Data'!AM:AM)) | O35: =SUM(M35:N35) -> 0 | Q35: =IF($K35="","",SUMIF(Personnel_Data,$K35,'Personnel Data'!T:T)) | R35: =IF($K35="","",SUMIF(Personnel_Data,$K35,'Personnel Data'!AA:AA)) | S35: =IF($K35="","",SUMIF(Personnel_Data,$K35,'Personnel Data'!AN:AN)) | T35: =SUM(R35:S35) -> 0 | V35: =IF($K35="","",SUMIF(Personnel_Data,$K35,'Personnel Data'!U:U)) | W35: =IF($K35="","",SUMIF(Personnel_Data,$K35,'Personnel Data'!AB:AB)) | X35: =IF($K35="","",SUMIF(Personnel_Data,$K35,'Personnel Data'!AO:AO)) | Y35: =SUM(W35:X35) -> 0 | AA35: =IF($K35="","",SUMIF(Personnel_Data,$K35,'Personnel Data'!V:V)) | AB35: =IF($K35="","",SUMIF(Personnel_Data,$K35,'Personnel Data'!AC:AC)) | AC35: =IF($K35="","",SUMIF(Personnel_Data,$K35,'Personnel Data'!AP:AP)) | AD35: =SUM(AB35:AC35) -> 0 | AF35: =IF($K35="","",SUMIF(Personnel_Data,$K35,'Personnel Data'!W:W)) | AG35: =IF($K35="","",SUMIF(Personnel_Data,$K35,'Personnel Data'!AD:AD)) | AH35: =IF($K35="","",SUMIF(Personnel_Data,$K35,'Personnel Data'!AQ:AQ))
L36: =IF($K36="","",SUMIF(Personnel_Data,$K36,'Personnel Data'!S:S)) | M36: =IF($K36="","",SUMIF(Personnel_Data,$K36,'Personnel Data'!Z:Z)) | N36: =IF($K36="","",SUMIF(Personnel_Data,$K36,'Personnel Data'!AM:AM)) | O36: =SUM(M36:N36) -> 0 | Q36: =IF($K36="","",SUMIF(Personnel_Data,$K36,'Personnel Data'!T:T)) | R36: =IF($K36="","",SUMIF(Personnel_Data,$K36,'Personnel Data'!AA:AA)) | S36: =IF($K36="","",SUMIF(Personnel_Data,$K36,'Personnel Data'!AN:AN)) | T36: =SUM(R36:S36) -> 0 | V36: =IF($K36="","",SUMIF(Personnel_Data,$K36,'Personnel Data'!U:U)) | W36: =IF($K36="","",SUMIF(Personnel_Data,$K36,'Personnel Data'!AB:AB)) | X36: =IF($K36="","",SUMIF(Personnel_Data,$K36,'Personnel Data'!AO:AO)) | Y36: =SUM(W36:X36) -> 0 | AA36: =IF($K36="","",SUMIF(Personnel_Data,$K36,'Personnel Data'!V:V)) | AB36: =IF($K36="","",SUMIF(Personnel_Data,$K36,'Personnel Data'!AC:AC)) | AC36: =IF($K36="","",SUMIF(Personnel_Data,$K36,'Personnel Data'!AP:AP)) | AD36: =SUM(AB36:AC36) -> 0 | AF36: =IF($K36="","",SUMIF(Personnel_Data,$K36,'Personnel Data'!W:W)) | AG36: =IF($K36="","",SUMIF(Personnel_Data,$K36,'Personnel Data'!AD:AD)) | AH36: =IF($K36="","",SUMIF(Personnel_Data,$K36,'Personnel Data'!AQ:AQ))
L37: Year 1 Cal Mos | M37: Year 1 Salary | N37: Year 1 Fringe | O37: Year 1 TOTAL | Q37: Year 2 Cal Mos | R37: Year 2 Salary | S37: Year 2 Fringe | T37: Year 2 TOTAL | V37: Year 3 Cal Mos | W37: Year 3 Salary | X37: Year 3 Fringe | Y37: Year 3 TOTAL | AA37: Year 4 Cal Mos | AB37: Year 4 Salary | AC37: Year 4 Fringe | AD37: Year 4 TOTAL | AF37: Year 5 Cal Mos | AG37: Year 5 Salary | AH37: Year 5 Fringe | AI37: Year 5 TOTAL
